BEGIN:VCALENDAR
VERSION:2.0
PRODID:-// - ECPv6.5.0.1//NONSGML v1.0//EN
CALSCALE:GREGORIAN
METHOD:PUBLISH
X-ORIGINAL-URL:https://maudegeorges.fr
X-WR-CALDESC:évènements pour 
REFRESH-INTERVAL;VALUE=DURATION:PT1H
X-Robots-Tag:noindex
X-PUBLISHED-TTL:PT1H
BEGIN:VTIMEZONE
TZID:Europe/Paris
BEGIN:DAYLIGHT
TZOFFSETFROM:+0100
TZOFFSETTO:+0200
TZNAME:CEST
DTSTART:20250330T010000
END:DAYLIGHT
BEGIN:STANDARD
TZOFFSETFROM:+0200
TZOFFSETTO:+0100
TZNAME:CET
DTSTART:20251026T010000
END:STANDARD
END:VTIMEZONE
BEGIN:VEVENT
DTSTART;TZID=Europe/Paris:20251028T080000
DTEND;TZID=Europe/Paris:20251101T170000
DTSTAMP:20260420T011136
CREATED:20250926T114426Z
LAST-MODIFIED:20250926T114455Z
UID:446-1761638400-1762016400@maudegeorges.fr
SUMMARY:Effroyable légende du chât'eau
DESCRIPTION:Du mardi au dimanche\, à 11h\, 14h et 15h30. \nCréation octobre 2025 ! \n« Connaissez-vous l’histoire des sœurs Roustan ? Non\, bien sûr\, et c’est bien normal… D’ailleurs\, sitôt que nous vous l’aurons racontée\, vous feriez bien de l’oublier : celles et ceux qui s’en souviennent appartiennent à un monde bien différent du nôtre. » \nUn jour d’automne\, deux sœurs s’endorment dans leur barque sur la Loire. À leur réveil\, le monde a disparu dans le brouillard. En remontant l’ancre\, elles déclenchent une tempête qui les entraîne au fond du fleuve\, où leur rencontre avec Segeta\, la déesse oubliée de la Loire\, les bouleversera à tout jamais… \nPlongez dans L’Effroyable Légende du Chât’eau…\, un conte musical et dansé et venez vivre une expérience immersive unique\, où narration\, musique (allant du classique aux créations originales)\, danse et percussions vous emmèneront dans un voyage poétique et mystérieux. Entre rêve et réalité\, ce spectacle vous invite à réfléchir\, à ressentir\, et à vous laisser transporter par l’étrange beauté de l’eau.
URL:https://maudegeorges.fr/index.php/date/effroyable-legende-du-chateau/
LOCATION:Chateau de la Roche\, Saint-Priest-la-Roche\, 42590\, France
ATTACH;FMTTYPE=image/jpeg:https://maudegeorges.fr/wp-content/uploads/2025/09/Halloween-2025-enfant.jpg
END:VEVENT
END:VCALENDAR