BEGIN:VCALENDAR
VERSION:2.0
PRODID:-// - ECPv6.5.0.1//NONSGML v1.0//EN
CALSCALE:GREGORIAN
METHOD:PUBLISH
X-ORIGINAL-URL:https://maudegeorges.fr
X-WR-CALDESC:évènements pour 
REFRESH-INTERVAL;VALUE=DURATION:PT1H
X-Robots-Tag:noindex
X-PUBLISHED-TTL:PT1H
BEGIN:VTIMEZONE
TZID:Europe/Paris
BEGIN:DAYLIGHT
TZOFFSETFROM:+0100
TZOFFSETTO:+0200
TZNAME:CEST
DTSTART:20250330T010000
END:DAYLIGHT
BEGIN:STANDARD
TZOFFSETFROM:+0200
TZOFFSETTO:+0100
TZNAME:CET
DTSTART:20251026T010000
END:STANDARD
END:VTIMEZONE
BEGIN:VEVENT
DTSTART;TZID=Europe/Paris:20250920T203000
DTEND;TZID=Europe/Paris:20250920T213000
DTSTAMP:20260420T031835
CREATED:20250916T130951Z
LAST-MODIFIED:20250916T131904Z
UID:419-1758400200-1758403800@maudegeorges.fr
SUMMARY:Passag'air et les Phonies Polies au festival Arta Sacra
DESCRIPTION:Passag’Air interprétera le Requiem de John Rutter\, sous le direction de Delphine Ardiet et en collaboration avec l’ensemble Euterpe de l’école des Arts de Vaulx-en-Velin. \nUne partie du choeur des Phonies Polies interprétera en première partie un répertoire sacré éclectique : \nLacrymosa\, Osun Requiem Calixto Alvarez\, 1986 4’15 \nDo Not Stand At My Grave And Weep Romain Bulteau\, 2024 2’15 \nRain\, Rain\, Beautiful Rain Joseph Shabalala\, 1988 2’25 \nIn the bleak midwinter Gustav Holst\, 192* 4’20 \nBonse Aba Arr : Victor C Johnson\, 2010 1’45 \nGjendines badnlat Arr : Gunnar Eriksson\, 2004 3’30 \nWe are Ysaye Barnwell\, 1991 2’10 \nDies irae\, requiem Michael John Trotta\, 2020 3′ \nDans nos obscurités Taizé 3′
URL:https://maudegeorges.fr/index.php/date/passagair-et-les-phonies-polies-au-festival-arta-sacra/
LOCATION:Espace Protestant Théodore Monod\, Vaulx-en-Velin\, Vaulx-en-Velin
ATTACH;FMTTYPE=image/png:https://maudegeorges.fr/wp-content/uploads/2025/09/affiche-arta-sacra-2025.png
END:VEVENT
END:VCALENDAR