BEGIN:VCALENDAR
VERSION:2.0
PRODID:-// - ECPv6.5.0.1//NONSGML v1.0//EN
CALSCALE:GREGORIAN
METHOD:PUBLISH
X-ORIGINAL-URL:https://maudegeorges.fr
X-WR-CALDESC:évènements pour 
REFRESH-INTERVAL;VALUE=DURATION:PT1H
X-Robots-Tag:noindex
X-PUBLISHED-TTL:PT1H
BEGIN:VTIMEZONE
TZID:Europe/Paris
BEGIN:DAYLIGHT
TZOFFSETFROM:+0100
TZOFFSETTO:+0200
TZNAME:CEST
DTSTART:20250330T010000
END:DAYLIGHT
BEGIN:STANDARD
TZOFFSETFROM:+0200
TZOFFSETTO:+0100
TZNAME:CET
DTSTART:20251026T010000
END:STANDARD
END:VTIMEZONE
BEGIN:VEVENT
DTSTART;TZID=Europe/Paris:20250303T000000
DTEND;TZID=Europe/Paris:20250309T235959
DTSTAMP:20260422T140859
CREATED:20241105T171415Z
LAST-MODIFIED:20250124T145119Z
UID:356-1740960000-1741564799@maudegeorges.fr
SUMMARY:L'Amour Sorcier - Cie Ode Mélodique - chanteuse et danseuse
DESCRIPTION:Venez découvrir dans la salle « Etincelles » de Genève notre dernière création : L’Amour Sorcier ! \nSuivez Candelas\, jeune gitane andalouse trahie par son amoureux et sa quête pour le retour de l’être aimé. Laissez-vous guider dans un récit plein de magie\, porté par un arrangement inédit pour deux guitares et voix. Une musique sensuelle\, enchantée par une narration poétique et sublimée par des danses envoûtantes.
URL:https://maudegeorges.fr/index.php/date/lamour-sorcier-cie-ode-melodique-chanteuse-et-danseuse-3/
ATTACH;FMTTYPE=image/png:https://maudegeorges.fr/wp-content/uploads/2024/11/LAmour-Sorcier-affiche-ETINCELLE.png
END:VEVENT
BEGIN:VEVENT
DTSTART;TZID=Europe/Paris:20250322T000000
DTEND;TZID=Europe/Paris:20250322T235959
DTSTAMP:20260422T140859
CREATED:20241105T161829Z
LAST-MODIFIED:20250124T150320Z
UID:320-1742601600-1742687999@maudegeorges.fr
SUMMARY:"Voix Liées" avec De THOU Chœur - association Lavéli - cheffe de chœur
DESCRIPTION:Embarquez dans notre « Voix liées » pour un voyage vocale unique et décalé\, remplie de mystère\, de danger et d’action. \nVous serez transportés dans de lointaines contrées laryngées à la recherche de trésors vocaux oubliés\, affrontant de redoutables demi-tons et sauts de quartes augmentées. \nEmportés par l’extravagance qui règne à bord de ce navire pas comme les autres\, grâce à des effets spéciaux impressionnants comme des consonnes finales synchronisées ou des cascades de double-croches\, rejoignez notre équipage de doux dingues pour naviguer en chœur sous un grain… de folie ! \n De THOU Chœur et les Phonies Polies
URL:https://maudegeorges.fr/index.php/date/voix-liees-avec-de-thou-choeur-association-laveli-cheffe-de-choeur/
ATTACH;FMTTYPE=image/jpeg:https://maudegeorges.fr/wp-content/uploads/2024/11/8e003bd1-6e04-489e-a388-b79407d26471.jpg
END:VEVENT
BEGIN:VEVENT
DTSTART;TZID=Europe/Paris:20250323T080000
DTEND;TZID=Europe/Paris:20250323T170000
DTSTAMP:20260422T140859
CREATED:20241105T172630Z
LAST-MODIFIED:20241105T172728Z
UID:366-1742716800-1742749200@maudegeorges.fr
SUMMARY:Eloge de la Bière - Dychka & Cie - comédienne et chanteuse
DESCRIPTION:Eloge de la Bière\, extrait de l’opéra Les Contes d’un Buveur de Bière de Ronny Coutteure et sur des musiques de Gérard Jouannest (Jacques Brel)\, se joue sur la péniche Scène des Quais à Auxerre. \nInterprété par Philippe Laurent et Maude Georges\, chanteuse lyrique\, ce spectacle poético-humoristique est à déguster avec gourmandise !
URL:https://maudegeorges.fr/index.php/date/eloge-de-la-biere-dychka-cie-comedienne-et-chanteuse/
ATTACH;FMTTYPE=image/png:https://maudegeorges.fr/wp-content/uploads/2024/11/Avignon-juillet-2024-1920-x-1080-px.png
END:VEVENT
END:VCALENDAR