BEGIN:VCALENDAR
VERSION:2.0
PRODID:-// - ECPv6.5.0.1//NONSGML v1.0//EN
CALSCALE:GREGORIAN
METHOD:PUBLISH
X-ORIGINAL-URL:https://maudegeorges.fr
X-WR-CALDESC:évènements pour 
REFRESH-INTERVAL;VALUE=DURATION:PT1H
X-Robots-Tag:noindex
X-PUBLISHED-TTL:PT1H
BEGIN:VTIMEZONE
TZID:Europe/Paris
BEGIN:DAYLIGHT
TZOFFSETFROM:+0100
TZOFFSETTO:+0200
TZNAME:CEST
DTSTART:20250330T010000
END:DAYLIGHT
BEGIN:STANDARD
TZOFFSETFROM:+0200
TZOFFSETTO:+0100
TZNAME:CET
DTSTART:20251026T010000
END:STANDARD
END:VTIMEZONE
BEGIN:VEVENT
DTSTART;TZID=Europe/Paris:20250213T000000
DTEND;TZID=Europe/Paris:20250219T235959
DTSTAMP:20260422T160328
CREATED:20241112T081809Z
LAST-MODIFIED:20250124T144737Z
UID:378-1739404800-1740009599@maudegeorges.fr
SUMMARY:L'Amour Sorcier - Cie Ode Mélodique - chanteuse et danseuse
DESCRIPTION:Dans le cadre de la saison Mosaïque du Conservatoire populaire de musique\, danse et théâtre de Genève\, venez découvrir notre dernière création : L’Amour Sorcier ! \nSuivez Candelas\, jeune gitane andalouse trahie par son amoureux et sa quête pour le retour de l’être aimé. Laissez-vous guider dans un récit plein de magie\, porté par un arrangement inédit pour deux guitares et voix. Une musique sensuelle\, enchantée par une narration poétique et sublimée par des danses envoûtantes.
URL:https://maudegeorges.fr/index.php/date/lamour-sorcier-cie-ode-melodique-chanteuse-et-danseuse/
ATTACH;FMTTYPE=image/png:https://maudegeorges.fr/wp-content/uploads/2024/11/1.png
END:VEVENT
BEGIN:VEVENT
DTSTART;TZID=Europe/Paris:20250215T000000
DTEND;TZID=Europe/Paris:20250215T235959
DTSTAMP:20260422T160328
CREATED:20241105T161704Z
LAST-MODIFIED:20250124T150211Z
UID:317-1739577600-1739663999@maudegeorges.fr
SUMMARY:"Voix Liées" avec le Centre Social Bonnefoi - association Lavéli - cheffe de chœur
DESCRIPTION:Embarquez dans notre « Voix liées » pour un voyage vocale unique et décalé\, remplie de mystère\, de danger et d’action. \nVous serez transportés dans de lointaines contrées laryngées à la recherche de trésors vocaux oubliés\, affrontant de redoutables demi-tons et sauts de quartes augmentées. \nEmportés par l’extravagance qui règne à bord de ce navire pas comme les autres\, grâce à des effets spéciaux impressionnants comme des consonnes finales synchronisées ou des cascades de double-croches\, rejoignez notre équipage de doux dingues pour naviguer en chœur sous un grain… de folie ! \nEn partenariat avec le centre Social Bonnefoi
URL:https://maudegeorges.fr/index.php/date/voix-liees-avec-le-centre-social-bonnefoi-association-laveli-cheffe-de-choeur/
ATTACH;FMTTYPE=image/png:https://maudegeorges.fr/wp-content/uploads/2024/11/Affiche-PP-fevrier-2025.png
END:VEVENT
END:VCALENDAR