BEGIN:VCALENDAR
VERSION:2.0
PRODID:-// - ECPv6.5.0.1//NONSGML v1.0//EN
CALSCALE:GREGORIAN
METHOD:PUBLISH
X-ORIGINAL-URL:https://maudegeorges.fr
X-WR-CALDESC:évènements pour 
REFRESH-INTERVAL;VALUE=DURATION:PT1H
X-Robots-Tag:noindex
X-PUBLISHED-TTL:PT1H
BEGIN:VTIMEZONE
TZID:Europe/Paris
BEGIN:DAYLIGHT
TZOFFSETFROM:+0100
TZOFFSETTO:+0200
TZNAME:CEST
DTSTART:20240331T010000
END:DAYLIGHT
BEGIN:STANDARD
TZOFFSETFROM:+0200
TZOFFSETTO:+0100
TZNAME:CET
DTSTART:20241027T010000
END:STANDARD
END:VTIMEZONE
BEGIN:VEVENT
DTSTART;TZID=Europe/Paris:20241011T200000
DTEND;TZID=Europe/Paris:20241011T213000
DTSTAMP:20260422T235005
CREATED:20240924T125305Z
LAST-MODIFIED:20240924T125305Z
UID:291-1728676800-1728682200@maudegeorges.fr
SUMMARY:Éloge de la bière - Dychka & Cie - chanteuse et comédienne
DESCRIPTION:Opérette-conférence-dégustation\, tout ça à la fois\, avec une bonne dose d’humour\, pour découvrir/redécouvrir la bière…
URL:https://maudegeorges.fr/index.php/date/eloge-de-la-biere-dychka-cie-chanteuse-et-comedienne/
LOCATION:Théâtre des Mansardes\, 10 rue de l'église\, Saint-Symphorien-de-Lay\, 42470\, France
ATTACH;FMTTYPE=image/jpeg:https://maudegeorges.fr/wp-content/uploads/2024/09/octobre-A3.jpg
ORGANIZER;CN="Cie Dychka":MAILTO:dychkaetcie@gmail.com
END:VEVENT
BEGIN:VEVENT
DTSTART;TZID=Europe/Paris:20241012T200000
DTEND;TZID=Europe/Paris:20241012T213000
DTSTAMP:20260422T235005
CREATED:20240924T125333Z
LAST-MODIFIED:20240924T125333Z
UID:295-1728763200-1728768600@maudegeorges.fr
SUMMARY:Éloge de la bière - Dychka & Cie - chanteuse et comédienne
DESCRIPTION:Opérette-conférence-dégustation\, tout ça à la fois\, avec une bonne dose d’humour\, pour découvrir/redécouvrir la bière…
URL:https://maudegeorges.fr/index.php/date/eloge-de-la-biere-dychka-cie-chanteuse-et-comedienne-2/
LOCATION:Théâtre des Mansardes\, 10 rue de l'église\, Saint-Symphorien-de-Lay\, 42470\, France
ATTACH;FMTTYPE=image/jpeg:https://maudegeorges.fr/wp-content/uploads/2024/09/octobre-A3.jpg
ORGANIZER;CN="Cie Dychka":MAILTO:dychkaetcie@gmail.com
END:VEVENT
BEGIN:VEVENT
DTSTART;TZID=Europe/Paris:20241013T170000
DTEND;TZID=Europe/Paris:20241013T183000
DTSTAMP:20260422T235005
CREATED:20240924T125410Z
LAST-MODIFIED:20240924T125410Z
UID:297-1728838800-1728844200@maudegeorges.fr
SUMMARY:Éloge de la bière - Dychka & Cie - chanteuse et comédienne
DESCRIPTION:Opérette-conférence-dégustation\, tout ça à la fois\, avec une bonne dose d’humour\, pour découvrir/redécouvrir la bière…
URL:https://maudegeorges.fr/index.php/date/eloge-de-la-biere-dychka-cie-chanteuse-et-comedienne-3/
LOCATION:Théâtre des Mansardes\, 10 rue de l'église\, Saint-Symphorien-de-Lay\, 42470\, France
ATTACH;FMTTYPE=image/jpeg:https://maudegeorges.fr/wp-content/uploads/2024/09/octobre-A3.jpg
ORGANIZER;CN="Cie Dychka":MAILTO:dychkaetcie@gmail.com
END:VEVENT
BEGIN:VEVENT
DTSTART;TZID=Europe/Paris:20241021T080000
DTEND;TZID=Europe/Paris:20241025T170000
DTSTAMP:20260422T235005
CREATED:20240924T130001Z
LAST-MODIFIED:20241105T163800Z
UID:299-1729497600-1729875600@maudegeorges.fr
SUMMARY:Stage "Bienvenu dans l'Entre-Deux Monde" - théâtre des Mansardes - artiste
DESCRIPTION:En compagnie de Patricia Renaud \nStage de création de spectacle théâtre et chant\n \nPour les 5-11 ans  (5/7 ans : 9h-11h30 et 7-11 ans : 13h30-16h30) \nObjectifs : \n\nMonter un spectacle entre 20 et 45 minutes\nPrésenter le spectacle sur scène\, en public\nDécouvrir des outils de création/d’expression
URL:https://maudegeorges.fr/index.php/date/stage-bienvenu-dans-lentre-deux-monde/
LOCATION:Théâtre des Mansardes\, 10 rue de l'église\, Saint-Symphorien-de-Lay\, 42470\, France
ATTACH;FMTTYPE=image/png:https://maudegeorges.fr/wp-content/uploads/2024/09/Monde.png
ORGANIZER;CN="Cie Dychka":MAILTO:dychkaetcie@gmail.com
END:VEVENT
END:VCALENDAR