BEGIN:VCALENDAR
VERSION:2.0
PRODID:-// - ECPv6.5.0.1//NONSGML v1.0//EN
CALSCALE:GREGORIAN
METHOD:PUBLISH
X-ORIGINAL-URL:https://maudegeorges.fr
X-WR-CALDESC:évènements pour 
REFRESH-INTERVAL;VALUE=DURATION:PT1H
X-Robots-Tag:noindex
X-PUBLISHED-TTL:PT1H
BEGIN:VTIMEZONE
TZID:Europe/Paris
BEGIN:DAYLIGHT
TZOFFSETFROM:+0100
TZOFFSETTO:+0200
TZNAME:CEST
DTSTART:20240331T010000
END:DAYLIGHT
BEGIN:STANDARD
TZOFFSETFROM:+0200
TZOFFSETTO:+0100
TZNAME:CET
DTSTART:20241027T010000
END:STANDARD
END:VTIMEZONE
BEGIN:VEVENT
DTSTART;TZID=Europe/Paris:20240801T173000
DTEND;TZID=Europe/Paris:20240801T193000
DTSTAMP:20260423T035548
CREATED:20240709T113422Z
LAST-MODIFIED:20240709T113422Z
UID:187-1722533400-1722540600@maudegeorges.fr
SUMMARY:Evocation Espagnole - Cie Ode Mélodique - chanteuse
DESCRIPTION:Venez découvrir le spectacle Evocation Espagnole dans les rues de Pérouges dans le cadre de la première édition des « Flâneries de Pérouges » ! \n« Elles sont deux\, guitariste et chanteuse\, à mêler leurs cordes pour nous emmener en voyage dans une Espagne révolue et fantasmée. Ne vous attendez cependant pas à un récital conventionnel ! Dans une alternance de textes et de musiques\, Élodie et Maude proposent un spectacle plein de fraîcheur\, d’enthousiasme mais aussi d’érudition. L’organologie\, l’histoire de la musique\, les textes\, la physiologie de la voix\, tout est prétexte pour nous faire (re)découvrir le travail d’Emilio Pujol\, de Federico Garcia Lorca\, de Fernando Sor\, de Enriquez de Valderrabano\, d’Alfonso Mudarra ou encore de Manuel de Falla. \nUne plongée musicale\, drôle et érudite\, dans la musique espagnole à travers les siècles ! »
URL:https://maudegeorges.fr/index.php/date/evocation-espagnole-cie-ode-melodique-chanteuse-2/
LOCATION:Rues de Pérouges\, Cité médiévale\, Pérouges\, 01800
ATTACH;FMTTYPE=image/jpeg:https://maudegeorges.fr/wp-content/uploads/2024/07/EE-affiche-Concert-Perouges.jpg
END:VEVENT
BEGIN:VEVENT
DTSTART;TZID=Europe/Paris:20240802T200000
DTEND;TZID=Europe/Paris:20240802T200000
DTSTAMP:20260423T035548
CREATED:20240709T113616Z
LAST-MODIFIED:20240709T120945Z
UID:191-1722628800-1722628800@maudegeorges.fr
SUMMARY:Evocation Espagnole - Cie Ode Mélodique - chanteuse
DESCRIPTION:Venez découvrir le spectacle Evocation Espagnole au palais épiscopal de Belley dans le cadre des Estivales ! \n« Elles sont deux\, guitariste et chanteuse\, à mêler leurs cordes pour nous emmener en voyage dans une Espagne révolue et fantasmée. Ne vous attendez cependant pas à un récital conventionnel ! Dans une alternance de textes et de musiques\, Élodie et Maude proposent un spectacle plein de fraîcheur\, d’enthousiasme mais aussi d’érudition. L’organologie\, l’histoire de la musique\, les textes\, la physiologie de la voix\, tout est prétexte pour nous faire (re)découvrir le travail d’Emilio Pujol\, de Federico Garcia Lorca\, de Fernando Sor\, de Enriquez de Valderrabano\, d’Alfonso Mudarra ou encore de Manuel de Falla. \nUne plongée musicale\, drôle et érudite\, dans la musique espagnole à travers les siècles ! »
URL:https://maudegeorges.fr/index.php/date/evocation-espagnole-cie-ode-melodique-chanteuse-3/
LOCATION:Palais épiscopal\, Rue des Cordeliers\, Belley\, 01300\, France
ATTACH;FMTTYPE=image/jpeg:https://maudegeorges.fr/wp-content/uploads/2024/07/EE-affiche-Concert-Belley.jpg
END:VEVENT
BEGIN:VEVENT
DTSTART;TZID=Europe/Paris:20240803T170000
DTEND;TZID=Europe/Paris:20240803T170000
DTSTAMP:20260423T035548
CREATED:20240709T113831Z
LAST-MODIFIED:20240709T113831Z
UID:195-1722704400-1722704400@maudegeorges.fr
SUMMARY:Evocation Espagnole - Cie Ode Mélodique - chanteuse
DESCRIPTION:Venez découvrir le spectacle Evocation Espagnole à Notre-Dame-des-Conches de Ramasse ! \n« Elles sont deux\, guitariste et chanteuse\, à mêler leurs cordes pour nous emmener en voyage dans une Espagne révolue et fantasmée. Ne vous attendez cependant pas à un récital conventionnel ! Dans une alternance de textes et de musiques\, Élodie et Maude proposent un spectacle plein de fraîcheur\, d’enthousiasme mais aussi d’érudition. L’organologie\, l’histoire de la musique\, les textes\, la physiologie de la voix\, tout est prétexte pour nous faire (re)découvrir le travail d’Emilio Pujol\, de Federico Garcia Lorca\, de Fernando Sor\, de Enriquez de Valderrabano\, d’Alfonso Mudarra ou encore de Manuel de Falla. \nUne plongée musicale\, drôle et érudite\, dans la musique espagnole à travers les siècles ! »
URL:https://maudegeorges.fr/index.php/date/evocation-espagnole-cie-ode-melodique-chanteuse-4/
LOCATION:Eglise Notre Dame des Conches\, Route des Conches\, Ramasse\, 01250\, France
ATTACH;FMTTYPE=image/jpeg:https://maudegeorges.fr/wp-content/uploads/2024/07/Affiche-aout-2024-Ramasse.jpg
END:VEVENT
BEGIN:VEVENT
DTSTART;TZID=Europe/Paris:20240812T000000
DTEND;TZID=Europe/Paris:20240818T235959
DTSTAMP:20260423T035548
CREATED:20240709T120833Z
LAST-MODIFIED:20240709T120833Z
UID:200-1723420800-1724025599@maudegeorges.fr
SUMMARY:Stages Caméléon & Enchantillages (Semaine Allez'Chante) - Lavéli - cheffe de chœur
DESCRIPTION:Rejoignez la Semaine Allez’Chante pour passer l’été en musique ! \nMaude Georges vous propose deux stages à la semaine pour vivre des moments musicaux\, riches et conviviaux\, pour tous les âges : \n\nChanter avec Caméléon pour interpréter un répertoire classique en français écrit principalement par des compositrices\n\nStage pour adultes et ados (à partir de 11 ans)\nDe 13h30 à 15h30 du lundi au vendredi puis journée concert le samedi\n\n\nChanter avec vos enfants au sein d’Enchantillages pour interpréter un répertoire accesible – et intéressant – pour toutes et tous !\n\nStage pour enfants\, ados et adultes (à partir de 6 ans)\nDe 17h30 à 18h30 du lundi au vendredi puis journée concert le samedi
URL:https://maudegeorges.fr/index.php/date/stages-cameleon-enchantillages-semaine-allezchante-laveli-cheffe-de-choeur/
LOCATION:Théâtre des Mansardes\, 10 rue de l'église\, Saint-Symphorien-de-Lay\, 42470\, France
ATTACH;FMTTYPE=image/png:https://maudegeorges.fr/wp-content/uploads/2024/07/Visuel-SAC-pour-MG-1.png
END:VEVENT
BEGIN:VEVENT
DTSTART;TZID=Europe/Paris:20240822T173000
DTEND;TZID=Europe/Paris:20240822T193000
DTSTAMP:20260423T035548
CREATED:20240709T125349Z
LAST-MODIFIED:20240709T125349Z
UID:210-1724347800-1724355000@maudegeorges.fr
SUMMARY:Voi(x)sines - Lavéli - cheffe de chœur
DESCRIPTION:Les Phonies Polies finissent leur saison dans l’Ain avec un répertoire des plus éclectiques mêlant émotions délicates et approche burlesque\, donnant vie à leur devise : en chant\, en scène\, ensemble. \nIls entraînent leur public dans des aventures de voi(x)sinage enlevées. Le spectacle traverse une année presque civile où les mois défilent à travers les nous. Des voi(x)sinages s’inventent au-delà des frontières du temps et de l’espace pour un voyage poétique dans le répertoire vocal classique sacré et profane.\nSoyez les bienvenus chez vos voi(x)sins et venez (re)découvrir une musique qui fera résonner votre quotidien !
URL:https://maudegeorges.fr/index.php/date/voixsines-laveli-cheffe-de-choeur/
LOCATION:Rues de Pérouges\, Cité médiévale\, Pérouges\, 01800
ATTACH;FMTTYPE=image/jpeg:https://maudegeorges.fr/wp-content/uploads/2024/07/Visuel-PP-Perouges-pour-MG.jpg
END:VEVENT
BEGIN:VEVENT
DTSTART;TZID=Europe/Paris:20240824T180000
DTEND;TZID=Europe/Paris:20240824T180000
DTSTAMP:20260423T035548
CREATED:20240709T125537Z
LAST-MODIFIED:20240709T130417Z
UID:213-1724522400-1724522400@maudegeorges.fr
SUMMARY:Voi(x)sines - Lavéli - cheffe de chœur
DESCRIPTION:Les Phonies Polies finissent leur saison dans l’Ain avec un répertoire des plus éclectiques mêlant émotions délicates et approche burlesque\, donnant vie à leur devise : en chant\, en scène\, ensemble. \nIls entraînent leur public dans des aventures de voi(x)sinage enlevées. Le spectacle traverse une année presque civile où les mois défilent à travers les nous. Des voi(x)sinages s’inventent au-delà des frontières du temps et de l’espace pour un voyage poétique dans le répertoire vocal classique sacré et profane.\nSoyez les bienvenus chez vos voi(x)sins et venez (re)découvrir une musique qui fera résonner votre quotidien !
URL:https://maudegeorges.fr/index.php/date/voixsines-laveli-cheffe-de-choeur-2/
LOCATION:Musée du Bugey-Valromey\, 3 rue Centrale\, Lochieu\, 01260
ATTACH;FMTTYPE=image/jpeg:https://maudegeorges.fr/wp-content/uploads/2024/07/Ete-2024-Ode-Melodique.jpg
END:VEVENT
BEGIN:VEVENT
DTSTART;TZID=Europe/Paris:20240825T163000
DTEND;TZID=Europe/Paris:20240825T163000
DTSTAMP:20260423T035548
CREATED:20240709T125755Z
LAST-MODIFIED:20240709T125820Z
UID:217-1724603400-1724603400@maudegeorges.fr
SUMMARY:Voi(x)sines - Lavéli - cheffe de chœur
DESCRIPTION:Les Phonies Polies finissent leur saison dans l’Ain avec un répertoire des plus éclectiques mêlant émotions délicates et approche burlesque\, donnant vie à leur devise : en chant\, en scène\, ensemble. \nIls entraînent leur public dans des aventures de voi(x)sinage enlevées. Le spectacle traverse une année presque civile où les mois défilent à travers les nous. Des voi(x)sinages s’inventent au-delà des frontières du temps et de l’espace pour un voyage poétique dans le répertoire vocal classique sacré et profane.\nSoyez les bienvenus chez vos voi(x)sins et venez (re)découvrir une musique qui fera résonner votre quotidien !
URL:https://maudegeorges.fr/index.php/date/voixsines-laveli-cheffe-de-choeur-3/
LOCATION:Eglise de Rignat\, Rignat\, 01250
ATTACH;FMTTYPE=image/png:https://maudegeorges.fr/wp-content/uploads/2024/07/Affiche-Rignat.png
END:VEVENT
END:VCALENDAR