BEGIN:VCALENDAR
VERSION:2.0
PRODID:-// - ECPv6.5.0.1//NONSGML v1.0//EN
CALSCALE:GREGORIAN
METHOD:PUBLISH
X-ORIGINAL-URL:https://maudegeorges.fr
X-WR-CALDESC:évènements pour 
REFRESH-INTERVAL;VALUE=DURATION:PT1H
X-Robots-Tag:noindex
X-PUBLISHED-TTL:PT1H
BEGIN:VTIMEZONE
TZID:Europe/Paris
BEGIN:DAYLIGHT
TZOFFSETFROM:+0100
TZOFFSETTO:+0200
TZNAME:CEST
DTSTART:20250330T010000
END:DAYLIGHT
BEGIN:STANDARD
TZOFFSETFROM:+0200
TZOFFSETTO:+0100
TZNAME:CET
DTSTART:20251026T010000
END:STANDARD
END:VTIMEZONE
BEGIN:VEVENT
DTSTART;TZID=Europe/Paris:20251115T104500
DTEND;TZID=Europe/Paris:20251116T170000
DTSTAMP:20260420T011943
CREATED:20250916T131629Z
LAST-MODIFIED:20250916T131832Z
UID:423-1763203500-1763312400@maudegeorges.fr
SUMMARY:Spectacles d'Halloween à Bard
DESCRIPTION:Petite histoire de revenantes et grande histoire de sorcellerie pour petits et grands. Un week-end de spectacles musicaux théâtraux pour profiter des journées courtes et brumeuses de novembre…
URL:https://maudegeorges.fr/index.php/date/spectacles-dhalloween-a-bard/
LOCATION:salle des fetes de Bard\, Bard\, 42600
ATTACH;FMTTYPE=image/png:https://maudegeorges.fr/wp-content/uploads/2025/09/Affiche-nov-Bard-complete.png
END:VEVENT
END:VCALENDAR