BEGIN:VCALENDAR
VERSION:2.0
PRODID:-// - ECPv6.5.0.1//NONSGML v1.0//EN
CALSCALE:GREGORIAN
METHOD:PUBLISH
X-ORIGINAL-URL:https://maudegeorges.fr
X-WR-CALDESC:évènements pour 
REFRESH-INTERVAL;VALUE=DURATION:PT1H
X-Robots-Tag:noindex
X-PUBLISHED-TTL:PT1H
BEGIN:VTIMEZONE
TZID:Europe/Paris
BEGIN:DAYLIGHT
TZOFFSETFROM:+0100
TZOFFSETTO:+0200
TZNAME:CEST
DTSTART:20250330T010000
END:DAYLIGHT
BEGIN:STANDARD
TZOFFSETFROM:+0200
TZOFFSETTO:+0100
TZNAME:CET
DTSTART:20251026T010000
END:STANDARD
END:VTIMEZONE
BEGIN:VEVENT
DTSTART;TZID=Europe/Paris:20250817T210000
DTEND;TZID=Europe/Paris:20250817T223000
DTSTAMP:20260420T073955
CREATED:20250916T132810Z
LAST-MODIFIED:20250916T132810Z
UID:438-1755464400-1755469800@maudegeorges.fr
SUMMARY:Voix Liées à St Gildas de Rhuys - cheffe de choeur
DESCRIPTION:
URL:https://maudegeorges.fr/index.php/date/voix-liees-a-st-gildas-de-rhuys-cheffe-de-choeur/
LOCATION:église de Tregunc\, Tregunc
ATTACH;FMTTYPE=image/jpeg:https://maudegeorges.fr/wp-content/uploads/2025/09/Affiche-St-Gildas.jpg
END:VEVENT
END:VCALENDAR