BEGIN:VCALENDAR
VERSION:2.0
PRODID:-// - ECPv6.5.0.1//NONSGML v1.0//EN
CALSCALE:GREGORIAN
METHOD:PUBLISH
X-ORIGINAL-URL:https://maudegeorges.fr
X-WR-CALDESC:évènements pour 
REFRESH-INTERVAL;VALUE=DURATION:PT1H
X-Robots-Tag:noindex
X-PUBLISHED-TTL:PT1H
BEGIN:VTIMEZONE
TZID:Europe/Paris
BEGIN:DAYLIGHT
TZOFFSETFROM:+0100
TZOFFSETTO:+0200
TZNAME:CEST
DTSTART:20250330T010000
END:DAYLIGHT
BEGIN:STANDARD
TZOFFSETFROM:+0200
TZOFFSETTO:+0100
TZNAME:CET
DTSTART:20251026T010000
END:STANDARD
END:VTIMEZONE
BEGIN:VEVENT
DTSTART;TZID=Europe/Paris:20250518T170000
DTEND;TZID=Europe/Paris:20250518T183000
DTSTAMP:20260422T122004
CREATED:20241105T171837Z
LAST-MODIFIED:20250407T195718Z
UID:364-1747587600-1747593000@maudegeorges.fr
SUMMARY:Evocation Espagnole - Cie Ode Mélodique - chanteuse
DESCRIPTION:Venez découvrir notre spectacle Evocation Espagnole à Verrières-en-Forez ! \n  \n« Elles sont deux\, guitariste et chanteuse\, à mêler leurs cordes pour nous emmener en voyage dans une Espagne révolue et fantasmée. Ne vous attendez cependant pas à un récital conventionnel ! Dans une alternance de textes et de musiques\, Élodie et Maude proposent un spectacle plein de fraîcheur\, d’enthousiasme mais aussi d’érudition. L’organologie\, l’histoire de la musique\, les textes\, la physiologie de la voix\, tout est prétexte pour nous faire (re)découvrir le travail d’Emilio Pujol\, de Federico Garcia Lorca\, de Fernando Sor\, de Enriquez de Valderrabano\, d’Alfonso Mudarra ou encore de Manuel de Falla. \nUne plongée musicale\, drôle et érudite\, dans la musique espagnole à travers les siècles ! »
URL:https://maudegeorges.fr/index.php/date/evocation-espagnole-cie-ode-melodique-chanteuse-8/
LOCATION:salle polyvalente de Verrières-en-Forez\, 221 rue du petit séminaire\, Verrières-en-Forez\, 42600
ATTACH;FMTTYPE=image/png:https://maudegeorges.fr/wp-content/uploads/2024/11/3.png
END:VEVENT
END:VCALENDAR