BEGIN:VCALENDAR
VERSION:2.0
PRODID:-// - ECPv6.5.0.1//NONSGML v1.0//EN
CALSCALE:GREGORIAN
METHOD:PUBLISH
X-ORIGINAL-URL:https://maudegeorges.fr
X-WR-CALDESC:évènements pour 
REFRESH-INTERVAL;VALUE=DURATION:PT1H
X-Robots-Tag:noindex
X-PUBLISHED-TTL:PT1H
BEGIN:VTIMEZONE
TZID:Europe/Paris
BEGIN:DAYLIGHT
TZOFFSETFROM:+0100
TZOFFSETTO:+0200
TZNAME:CEST
DTSTART:20250330T010000
END:DAYLIGHT
BEGIN:STANDARD
TZOFFSETFROM:+0200
TZOFFSETTO:+0100
TZNAME:CET
DTSTART:20251026T010000
END:STANDARD
END:VTIMEZONE
BEGIN:VEVENT
DTSTART;TZID=Europe/Paris:20250103T000000
DTEND;TZID=Europe/Paris:20250105T235959
DTSTAMP:20260422T213957
CREATED:20241105T171110Z
LAST-MODIFIED:20241105T171444Z
UID:350-1735862400-1736121599@maudegeorges.fr
SUMMARY:Résidence "L'Amour Sorcier" - Cie Ode Mélodique - chanteuse et danseuse
DESCRIPTION:En résidence de création du 3 au 5 janvier pour approfondir les possibilités de la régie lumière ! \nSuivez Candelas\, jeune gitane andalouse trahie par son amoureux et sa quête pour le retour de l’être aimé. Laissez-vous guider dans un récit plein de magie\, porté par un arrangement inédit pour deux guitares et voix. Une musique sensuelle\, enchantée par une narration poétique et sublimée par des danses envoûtantes.
URL:https://maudegeorges.fr/index.php/date/residence-lamour-sorcier-cie-ode-melodique-chanteuse-et-danseuse/
ATTACH;FMTTYPE=image/png:https://maudegeorges.fr/wp-content/uploads/2024/11/Design-sans-titre-1-1-1536x1151-1.png
END:VEVENT
END:VCALENDAR