BEGIN:VCALENDAR
VERSION:2.0
PRODID:-// - ECPv6.5.0.1//NONSGML v1.0//EN
CALSCALE:GREGORIAN
METHOD:PUBLISH
X-ORIGINAL-URL:https://maudegeorges.fr
X-WR-CALDESC:évènements pour 
REFRESH-INTERVAL;VALUE=DURATION:PT1H
X-Robots-Tag:noindex
X-PUBLISHED-TTL:PT1H
BEGIN:VTIMEZONE
TZID:Europe/Paris
BEGIN:DAYLIGHT
TZOFFSETFROM:+0100
TZOFFSETTO:+0200
TZNAME:CEST
DTSTART:20240331T010000
END:DAYLIGHT
BEGIN:STANDARD
TZOFFSETFROM:+0200
TZOFFSETTO:+0100
TZNAME:CET
DTSTART:20241027T010000
END:STANDARD
END:VTIMEZONE
BEGIN:VEVENT
DTSTART;TZID=Europe/Paris:20241105T080000
DTEND;TZID=Europe/Paris:20241105T170000
DTSTAMP:20260422T235142
CREATED:20241105T171224Z
LAST-MODIFIED:20241105T171224Z
UID:353-1730793600-1730826000@maudegeorges.fr
SUMMARY:L'Amour Sorcier - Cie Ode Mélodique - chanteuse et danseuse
DESCRIPTION:Après deux jours d’ateliers autour de la pièce\, les élèves du Conservatoire populaire de musique\, danse et théâtre de Genève participeront au spectacle « L’Amour Sorcier » dans le cadre de la saison Mosaïque. On vous attend nombreux !
URL:https://maudegeorges.fr/index.php/date/lamour-sorcier-cie-ode-melodique-chanteuse-et-danseuse-2/
ATTACH;FMTTYPE=image/png:https://maudegeorges.fr/wp-content/uploads/2024/11/1.png
END:VEVENT
END:VCALENDAR